BEGIN:VCALENDAR
VERSION:2.0
PRODID:-//wp-events-plugin.com//7.2.3.1//EN
TZID:America/New_York
X-WR-TIMEZONE:America/New_York
BEGIN:VEVENT
UID:773@berkschc.net
DTSTART;TZID=America/New_York:20230506T090000
DTEND;TZID=America/New_York:20230506T120000
DTSTAMP:20230501T160955Z
URL:https://berkschc.net/events/free-covid-vaccine-clinic/
SUMMARY:Free Covid Vaccine Clinic
DESCRIPTION:BCHC will be offering the Covid 19 vaccine at our Rockland loca
 tion on Saturdays\, May 6 &amp\; 20 from 9:00 am – Noon.\n* Moderna Vacc
 ines – All Covid 19 vaccines for ages 6 months and older available\n* Pf
 izer Vaccines – Ages 12 and older\;\nhttps://berkschc.net/coronavirus-up
 dates/\n
CATEGORIES:Community Event
LOCATION:\, \, 
GEO:40.364317;-75.9142703
X-APPLE-STRUCTURED-LOCATION;VALUE=URI;X-ADDRESS=\, ;X-APPLE-RADIUS=100;X-TI
 TLE=:geo:40.364317,-75.9142703
END:VEVENT
BEGIN:VTIMEZONE
TZID:America/New_York
X-LIC-LOCATION:America/New_York
BEGIN:DAYLIGHT
DTSTART:20230312T030000
TZOFFSETFROM:-0500
TZOFFSETTO:-0400
TZNAME:EDT
END:DAYLIGHT
END:VTIMEZONE
END:VCALENDAR