BEGIN:VCALENDAR
VERSION:2.0
PRODID:-//wp-events-plugin.com//7.2.3.1//EN
TZID:America/New_York
X-WR-TIMEZONE:America/New_York
BEGIN:VEVENT
UID:526@berkschc.net
DTSTART;TZID=America/New_York:20211020T100000
DTEND;TZID=America/New_York:20211020T140000
DTSTAMP:20210927T203053Z
URL:https://berkschc.net/events/covid-19-vaccine-clinic-at-oakbrook-2021-1
 0-20/
SUMMARY:Covid 19 Vaccine Clinic at Oakbrook
DESCRIPTION:Wednesday Walk Up Clinic at our Oakbrook location offering Pfiz
 er (ages 12 and up)\, Moderna (ages 18 and up) and J&amp\;J (ages 18 and u
 p).  Boosters for auto-immune patients can also be provided.\n\n
CATEGORIES:Community Event
LOCATION:BCHC at Oakbrook\, 1040 Liggett Ave\, Reading\, PA\, 19611\, Unite
 d States
X-APPLE-STRUCTURED-LOCATION;VALUE=URI;X-ADDRESS=1040 Liggett Ave\, Reading\
 , PA\, 19611\, United States;X-APPLE-RADIUS=100;X-TITLE=BCHC at Oakbrook:g
 eo:0,0
END:VEVENT
BEGIN:VTIMEZONE
TZID:America/New_York
X-LIC-LOCATION:America/New_York
BEGIN:DAYLIGHT
DTSTART:20210314T030000
TZOFFSETFROM:-0500
TZOFFSETTO:-0400
TZNAME:EDT
END:DAYLIGHT
END:VTIMEZONE
END:VCALENDAR