BEGIN:VCALENDAR
VERSION:2.0
PRODID:-//wp-events-plugin.com//7.2.3.1//EN
TZID:America/New_York
X-WR-TIMEZONE:America/New_York
BEGIN:VEVENT
UID:474@berkschc.net
DTSTART;TZID=America/New_York:20210810T160000
DTEND;TZID=America/New_York:20210810T180000
DTSTAMP:20210716T183610Z
URL:https://berkschc.net/events/community-day-at-oakbrook-2/
SUMMARY:Community Day at Oakbrook
DESCRIPTION:Come celebrate National Health Center Week with Berks Community
  Health Center! Join us for FREE informational booths\, refreshments\, giv
 eaways\, music and other activities! The Covid vaccine and other health sc
 reenings will be available. We will be practicing social distancing at our
  event.\n\n
CATEGORIES:Community Event
LOCATION:Berks Community Health Center at Oakbrook\, 1040 Liggett Ave. \, R
 eading \, PA\, 19611\, United States
X-APPLE-STRUCTURED-LOCATION;VALUE=URI;X-ADDRESS=1040 Liggett Ave. \, Readin
 g \, PA\, 19611\, United States;X-APPLE-RADIUS=100;X-TITLE=Berks Community
  Health Center at Oakbrook:geo:0,0
END:VEVENT
BEGIN:VTIMEZONE
TZID:America/New_York
X-LIC-LOCATION:America/New_York
BEGIN:DAYLIGHT
DTSTART:20210314T030000
TZOFFSETFROM:-0500
TZOFFSETTO:-0400
TZNAME:EDT
END:DAYLIGHT
END:VTIMEZONE
END:VCALENDAR